BEGIN:VCALENDAR
VERSION:2.0
PRODID:-//My Journey To - ECPv6.15.17//NONSGML v1.0//EN
CALSCALE:GREGORIAN
METHOD:PUBLISH
X-WR-CALNAME:My Journey To
X-ORIGINAL-URL:https://myjourneyto.com
X-WR-CALDESC:Events for My Journey To
REFRESH-INTERVAL;VALUE=DURATION:PT1H
X-Robots-Tag:noindex
X-PUBLISHED-TTL:PT1H
BEGIN:VTIMEZONE
TZID:America/Chicago
BEGIN:DAYLIGHT
TZOFFSETFROM:-0600
TZOFFSETTO:-0500
TZNAME:CDT
DTSTART:20200308T080000
END:DAYLIGHT
BEGIN:STANDARD
TZOFFSETFROM:-0500
TZOFFSETTO:-0600
TZNAME:CST
DTSTART:20201101T070000
END:STANDARD
BEGIN:DAYLIGHT
TZOFFSETFROM:-0600
TZOFFSETTO:-0500
TZNAME:CDT
DTSTART:20210314T080000
END:DAYLIGHT
BEGIN:STANDARD
TZOFFSETFROM:-0500
TZOFFSETTO:-0600
TZNAME:CST
DTSTART:20211107T070000
END:STANDARD
BEGIN:DAYLIGHT
TZOFFSETFROM:-0600
TZOFFSETTO:-0500
TZNAME:CDT
DTSTART:20220313T080000
END:DAYLIGHT
BEGIN:STANDARD
TZOFFSETFROM:-0500
TZOFFSETTO:-0600
TZNAME:CST
DTSTART:20221106T070000
END:STANDARD
BEGIN:DAYLIGHT
TZOFFSETFROM:-0600
TZOFFSETTO:-0500
TZNAME:CDT
DTSTART:20230312T080000
END:DAYLIGHT
BEGIN:STANDARD
TZOFFSETFROM:-0500
TZOFFSETTO:-0600
TZNAME:CST
DTSTART:20231105T070000
END:STANDARD
END:VTIMEZONE
BEGIN:VEVENT
DTSTART;TZID=America/Chicago:20220208T080000
DTEND;TZID=America/Chicago:20220208T090000
DTSTAMP:20260422T060352
CREATED:20211228T174203Z
LAST-MODIFIED:20220208T134828Z
UID:3766-1644307200-1644310800@myjourneyto.com
SUMMARY:Live Connect: Morning Stillness & Check-in
DESCRIPTION:Join us for a time of stillness\, self-awareness\, and then an optional chance to check-in with one another. Experience a facilitated time of quieting and self reflection\, followed by a chance to connect with others. \nTarget Audience : Anyone looking for a few moments to connect with themselves and others. \nTo register for this event click Get Ticket.
URL:https://myjourneyto.com/workshops/live-connect-morning-stillness-check-in-50/
CATEGORIES:Gold & Silver Members Only
END:VEVENT
BEGIN:VEVENT
DTSTART;TZID=America/Chicago:20220204T120000
DTEND;TZID=America/Chicago:20220204T130000
DTSTAMP:20260422T060352
CREATED:20211228T175024Z
LAST-MODIFIED:20211228T175024Z
UID:3776-1643976000-1643979600@myjourneyto.com
SUMMARY:Live Connect: Lunchtime Discussion – Connecting to Those I Disagree With
DESCRIPTION:Join us for a BYOL open discussion on the topic: Connecting to Those I Disagree With?   We’ll begin with a brief centering and then jump into the discussion. \nTarget Audience : Anyone interested in connecting with others in an open discussion.  Working from home and eating lunch alone?  Join us instead. \nTo register for this event click Get Ticket.
URL:https://myjourneyto.com/workshops/live-connect-lunchtime-discussion-connecting-to-those-i-disagree-with-3/
CATEGORIES:Gold & Silver Members Only
END:VEVENT
BEGIN:VEVENT
DTSTART;TZID=America/Chicago:20220202T080000
DTEND;TZID=America/Chicago:20220202T090000
DTSTAMP:20260422T060352
CREATED:20211228T174005Z
LAST-MODIFIED:20211228T174005Z
UID:3763-1643788800-1643792400@myjourneyto.com
SUMMARY:Live Connect: Morning Stillness & Check-in
DESCRIPTION:Join us for a time of stillness\, self-awareness\, and then an optional chance to check-in with one another. Experience a facilitated time of quieting and self reflection\, followed by a chance to connect with others. \nTarget Audience : Anyone looking for a few moments to connect with themselves and others. \nTo register for this event click Get Ticket.
URL:https://myjourneyto.com/workshops/live-connect-morning-stillness-check-in-49/
CATEGORIES:Gold & Silver Members Only
END:VEVENT
BEGIN:VEVENT
DTSTART;TZID=America/Chicago:20220129T090000
DTEND;TZID=America/Chicago:20220129T110000
DTSTAMP:20260422T060352
CREATED:20211202T191721Z
LAST-MODIFIED:20211202T202149Z
UID:3722-1643446800-1643454000@myjourneyto.com
SUMMARY:FREE Live Workshop:  Why Am I Stuck?
DESCRIPTION:An opportunity to explore how and why we get stuck when trying make changes in our lives.  Work on some specific area you’d like to change and develop a plan to move forward. \nTarget Audience : Anyone wanting to get unstuck in some area of their life. \nNo Cost!  To register for this event click Get Ticket.
URL:https://myjourneyto.com/workshops/free-workshop-why-am-i-stuck/
END:VEVENT
BEGIN:VEVENT
DTSTART;TZID=America/Chicago:20220127T120000
DTEND;TZID=America/Chicago:20220127T130000
DTSTAMP:20260422T060352
CREATED:20211202T190302Z
LAST-MODIFIED:20220127T161754Z
UID:3714-1643284800-1643288400@myjourneyto.com
SUMMARY:Live Connect: Lunchtime Discussion – Motivation Without Shaming
DESCRIPTION:Join us for a BYOL open discussion on the topic: Motivation Without Shaming.   We’ll begin with a brief centering and then jump into the discussion. \nTarget Audience : Anyone interested in connecting with others in an open discussion. Working from home and eating lunch alone? Join us instead. \nTo register for this event click Get Ticket.
URL:https://myjourneyto.com/workshops/live-connect-lunchtime-discussion-motivation-without-shaming-9/
CATEGORIES:Gold & Silver Members Only
END:VEVENT
BEGIN:VEVENT
DTSTART;TZID=America/Chicago:20220125T080000
DTEND;TZID=America/Chicago:20220125T090000
DTSTAMP:20260422T060352
CREATED:20211202T184909Z
LAST-MODIFIED:20220125T134113Z
UID:3701-1643097600-1643101200@myjourneyto.com
SUMMARY:Live Connect: Morning Stillness & Check-in
DESCRIPTION:Join us for a time of stillness\, self-awareness\, and then an optional chance to check-in with one another. Experience a facilitated time of quieting and self reflection\, followed by a chance to connect with others. \nTarget Audience : Anyone looking for a few moments to connect with themselves and others. \nTo register for this event click Get Ticket.
URL:https://myjourneyto.com/workshops/live-connect-morning-stillness-check-in-48/
CATEGORIES:Gold & Silver Members Only
END:VEVENT
BEGIN:VEVENT
DTSTART;TZID=America/Chicago:20220121T120000
DTEND;TZID=America/Chicago:20220121T130000
DTSTAMP:20260422T060352
CREATED:20211202T190037Z
LAST-MODIFIED:20220121T174710Z
UID:3711-1642766400-1642770000@myjourneyto.com
SUMMARY:Live Connect: Lunchtime Discussion – Caring For Your Inner Child
DESCRIPTION:Join us for a BYOL open discussion on the topic: Caring For Your Inner Child.   We’ll begin with a brief centering and then jump into the discussion. \nTarget Audience : Anyone interested in connecting with others in an open discussion. Working from home and eating lunch alone? Join us instead. \nTo register for this event click Get Ticket.
URL:https://myjourneyto.com/workshops/live-connect-lunchtime-discussion-caring-for-your-inner-child-8/
CATEGORIES:Gold & Silver Members Only
END:VEVENT
BEGIN:VEVENT
DTSTART;TZID=America/Chicago:20220119T080000
DTEND;TZID=America/Chicago:20220119T090000
DTSTAMP:20260422T060352
CREATED:20211202T184641Z
LAST-MODIFIED:20220119T030126Z
UID:3698-1642579200-1642582800@myjourneyto.com
SUMMARY:Live Connect: Morning Stillness & Check-in
DESCRIPTION:Join us for a time of stillness\, self-awareness\, and then an optional chance to check-in with one another. Experience a facilitated time of quieting and self reflection\, followed by a chance to connect with others. \nTarget Audience : Anyone looking for a few moments to connect with themselves and others. \nTo register for this event click Get Ticket.
URL:https://myjourneyto.com/workshops/live-connect-morning-stillness-check-in-47/
CATEGORIES:Gold & Silver Members Only
END:VEVENT
BEGIN:VEVENT
DTSTART;TZID=America/Chicago:20220115T090000
DTEND;TZID=America/Chicago:20220115T110000
DTSTAMP:20260422T060352
CREATED:20211202T191044Z
LAST-MODIFIED:20220114T225953Z
UID:3718-1642237200-1642244400@myjourneyto.com
SUMMARY:Live Workshop: Who Am I?  Developing My Identity
DESCRIPTION:An opportunity to explore how we’ve formed our identity\, positively and negatively.  We’ll look at the ways we maintain our identity\, even when we choose unhealthy behaviors.  And we’ll look into how to align our self-view with God’s view of us. \nTarget Audience :  Anyone open to learning and perhaps changing their view of their identity. \nTo register for this event click Get Tickets.
URL:https://myjourneyto.com/workshops/live-workshop-who-am-i-developing-my-identity/
END:VEVENT
BEGIN:VEVENT
DTSTART;TZID=America/Chicago:20220113T120000
DTEND;TZID=America/Chicago:20220113T130000
DTSTAMP:20260422T060352
CREATED:20211202T185712Z
LAST-MODIFIED:20220113T172057Z
UID:3707-1642075200-1642078800@myjourneyto.com
SUMMARY:Live Connect: Lunchtime Discussion – Waiting For a Hero
DESCRIPTION:Join us for a BYOL open discussion on the topic: Waiting For A Hero.   We’ll begin with a brief centering and then jump into the discussion. \nTarget Audience : Anyone interested in connecting with others in an open discussion. Working from home and eating lunch alone? Join us instead. \nTo register for this event click Get Ticket.
URL:https://myjourneyto.com/workshops/live-connect-lunchtime-discussion-waiting-for-a-hero-7/
CATEGORIES:Gold & Silver Members Only
END:VEVENT
BEGIN:VEVENT
DTSTART;TZID=America/Chicago:20220111T080000
DTEND;TZID=America/Chicago:20220111T090000
DTSTAMP:20260422T060352
CREATED:20211202T184426Z
LAST-MODIFIED:20220111T134838Z
UID:3695-1641888000-1641891600@myjourneyto.com
SUMMARY:Live Connect: Morning Stillness & Check-in
DESCRIPTION:Join us for a time of stillness\, self-awareness\, and then an optional chance to check-in with one another. Experience a facilitated time of quieting and self reflection\, followed by a chance to connect with others. \nTarget Audience : Anyone looking for a few moments to connect with themselves and others. \nTo register for this event click Get Ticket.
URL:https://myjourneyto.com/workshops/live-connect-morning-stillness-check-in-46/
CATEGORIES:Gold & Silver Members Only
END:VEVENT
BEGIN:VEVENT
DTSTART;TZID=America/Chicago:20220107T120000
DTEND;TZID=America/Chicago:20220107T130000
DTSTAMP:20260422T060352
CREATED:20211202T185250Z
LAST-MODIFIED:20220107T172228Z
UID:3704-1641556800-1641560400@myjourneyto.com
SUMMARY:Live Connect: Lunchtime Discussion – Self-care or Selfish
DESCRIPTION:Join us for a BYOL open discussion on the topic: Self-care or Selfish.   We’ll begin with a brief centering and then jump into the discussion. \nTarget Audience : Anyone interested in connecting with others in an open discussion. Working from home and eating lunch alone? Join us instead. \nTo register for this event click Get Ticket.
URL:https://myjourneyto.com/workshops/live-connect-lunchtime-discussion-self-care-or-selfish-8/
CATEGORIES:Gold & Silver Members Only
END:VEVENT
BEGIN:VEVENT
DTSTART;TZID=America/Chicago:20220105T080000
DTEND;TZID=America/Chicago:20220105T090000
DTSTAMP:20260422T060352
CREATED:20211202T184211Z
LAST-MODIFIED:20220105T040046Z
UID:3692-1641369600-1641373200@myjourneyto.com
SUMMARY:Live Connect: Morning Stillness & Check-in
DESCRIPTION:Join us for a time of stillness\, self-awareness\, and then an optional chance to check-in with one another. Experience a facilitated time of quieting and self reflection\, followed by a chance to connect with others. \nTarget Audience : Anyone looking for a few moments to connect with themselves and others. \nTo register for this event click Get Ticket.
URL:https://myjourneyto.com/workshops/live-connect-morning-stillness-check-in-45/
CATEGORIES:Gold & Silver Members Only
END:VEVENT
BEGIN:VEVENT
DTSTART;TZID=America/Chicago:20211230T190000
DTEND;TZID=America/Chicago:20211230T210000
DTSTAMP:20260422T060352
CREATED:20211026T183929Z
LAST-MODIFIED:20211202T202211Z
UID:3428-1640890800-1640898000@myjourneyto.com
SUMMARY:FREE Live Workshop: Creating the 2022 You Want
DESCRIPTION:An opportunity to intentionally create a vision\, goals and a plan for 2022. \nTarget Audience : Anyone wanting to enter the new year with more intentionality. \nNo Cost!  To register for this event click Get Ticket.
URL:https://myjourneyto.com/workshops/free-workshop-creating-the-2022-you-want/
END:VEVENT
BEGIN:VEVENT
DTSTART;TZID=America/Chicago:20211229T120000
DTEND;TZID=America/Chicago:20211229T130000
DTSTAMP:20260422T060352
CREATED:20211026T182724Z
LAST-MODIFIED:20211229T174658Z
UID:3422-1640779200-1640782800@myjourneyto.com
SUMMARY:Live Connect: Lunchtime Discussion – Why Am I Stuck
DESCRIPTION:Join us for a BYOL open discussion on the topic: Why Am I Stuck.   We’ll begin with a brief centering and then jump into the discussion. \nTarget Audience : Anyone interested in connecting with others in an open discussion.  Working from home and eating lunch alone?  Join us instead. \nTo register for this event click Get Ticket.
URL:https://myjourneyto.com/workshops/live-connect-lunchtime-discussion-why-am-i-stuck-7/
CATEGORIES:Gold & Silver Members Only
END:VEVENT
BEGIN:VEVENT
DTSTART;TZID=America/Chicago:20211228T080000
DTEND;TZID=America/Chicago:20211228T090000
DTSTAMP:20260422T060352
CREATED:20211026T181245Z
LAST-MODIFIED:20211228T042752Z
UID:3405-1640678400-1640682000@myjourneyto.com
SUMMARY:Live Connect: Morning Stillness & Check-in
DESCRIPTION:Join us for a time of stillness\, self-awareness\, and then an optional chance to check-in with one another. Experience a facilitated time of quieting and self reflection\, followed by a chance to connect with others. \nTarget Audience : Anyone looking for a few moments to connect with themselves and others. \nTo register for this event click Get Ticket.
URL:https://myjourneyto.com/workshops/live-connect-morning-stillness-check-in-44/
CATEGORIES:Gold & Silver Members Only
END:VEVENT
BEGIN:VEVENT
DTSTART;TZID=America/Chicago:20211223T120000
DTEND;TZID=America/Chicago:20211223T130000
DTSTAMP:20260422T060352
CREATED:20211026T182511Z
LAST-MODIFIED:20211223T174703Z
UID:3418-1640260800-1640264400@myjourneyto.com
SUMMARY:Live Connect: Lunchtime Discussion – Carrying Grief & Loss
DESCRIPTION:Join us for a BYOL open discussion on the topic: Carrying Grief & Loss.   We’ll begin with a brief centering and then jump into the discussion. \nTarget Audience : Anyone interested in connecting with others in an open discussion.  Working from home and eating lunch alone?  Join us instead. \nTo register for this event click Get Ticket.
URL:https://myjourneyto.com/workshops/live-connect-lunchtime-discussion-carrying-grief-loss-2/
CATEGORIES:Gold & Silver Members Only
END:VEVENT
BEGIN:VEVENT
DTSTART;TZID=America/Chicago:20211222T080000
DTEND;TZID=America/Chicago:20211222T090000
DTSTAMP:20260422T060352
CREATED:20211026T181028Z
LAST-MODIFIED:20211222T045601Z
UID:3402-1640160000-1640163600@myjourneyto.com
SUMMARY:Live Connect: Morning Stillness & Check-in
DESCRIPTION:Join us for a time of stillness\, self-awareness\, and then an optional chance to check-in with one another. Experience a facilitated time of quieting and self reflection\, followed by a chance to connect with others. \nTarget Audience : Anyone looking for a few moments to connect with themselves and others. \nTo register for this event click Get Ticket.
URL:https://myjourneyto.com/workshops/live-connect-morning-stillness-check-in-43/
CATEGORIES:Gold & Silver Members Only
END:VEVENT
BEGIN:VEVENT
DTSTART;TZID=America/Chicago:20211216T120000
DTEND;TZID=America/Chicago:20211216T130000
DTSTAMP:20260422T060352
CREATED:20211026T182251Z
LAST-MODIFIED:20211026T182251Z
UID:3414-1639656000-1639659600@myjourneyto.com
SUMMARY:Live Connect: Lunchtime Discussion – Mistrust of Institutions & Leaders
DESCRIPTION:Join us for a BYOL open discussion on the topic: Mistrust of Institutions & Leaders.   We’ll begin with a brief centering and then jump into the discussion. \nTarget Audience : Anyone interested in connecting with others in an open discussion.  Working from home and eating lunch alone?  Join us instead. \nTo register for this event click Get Ticket.
URL:https://myjourneyto.com/workshops/live-connect-lunchtime-discussion-mistrust-of-institutions-leaders-2/
CATEGORIES:Gold & Silver Members Only
END:VEVENT
BEGIN:VEVENT
DTSTART;TZID=America/Chicago:20211214T080000
DTEND;TZID=America/Chicago:20211214T090000
DTSTAMP:20260422T060352
CREATED:20211026T180808Z
LAST-MODIFIED:20211214T042041Z
UID:3399-1639468800-1639472400@myjourneyto.com
SUMMARY:Live Connect: Morning Stillness & Check-in
DESCRIPTION:Join us for a time of stillness\, self-awareness\, and then an optional chance to check-in with one another. Experience a facilitated time of quieting and self reflection\, followed by a chance to connect with others. \nTarget Audience : Anyone looking for a few moments to connect with themselves and others. \nTo register for this event click Get Ticket.
URL:https://myjourneyto.com/workshops/live-connect-morning-stillness-check-in-42/
CATEGORIES:Gold & Silver Members Only
END:VEVENT
BEGIN:VEVENT
DTSTART;TZID=America/Chicago:20211211T090000
DTEND;TZID=America/Chicago:20211211T110000
DTSTAMP:20260422T060352
CREATED:20211026T183454Z
LAST-MODIFIED:20211026T183454Z
UID:3425-1639213200-1639220400@myjourneyto.com
SUMMARY:Live Workshop: Our Monsters As Mirrors
DESCRIPTION:An opportunity to explore what our fascination with and construction of our monsters can show us about ourselves.  By exploring how we see others or create fictional others\, we can learn about hidden parts of ourselves. \nTarget Audience :  Anyone open to learning about parts of themselves of which they are unaware. \nTo register for this event click Get Tickets.
URL:https://myjourneyto.com/workshops/live-workshop-our-monsters-as-mirrors/
END:VEVENT
BEGIN:VEVENT
DTSTART;TZID=America/Chicago:20211210T120000
DTEND;TZID=America/Chicago:20211210T130000
DTSTAMP:20260422T060352
CREATED:20211026T181957Z
LAST-MODIFIED:20211026T181957Z
UID:3411-1639137600-1639141200@myjourneyto.com
SUMMARY:Live Connect: Lunchtime Discussion – Handling Stress
DESCRIPTION:Join us for a BYOL open discussion on the topic: Handling Stress.   We’ll begin with a brief centering and then jump into the discussion. \nTarget Audience : Anyone interested in connecting with others in an open discussion.  Working from home and eating lunch alone?  Join us instead. \nTo register for this event click Get Ticket.
URL:https://myjourneyto.com/workshops/live-connect-lunchtime-discussion-handling-stress-2/
CATEGORIES:Gold & Silver Members Only
END:VEVENT
BEGIN:VEVENT
DTSTART;TZID=America/Chicago:20211208T080000
DTEND;TZID=America/Chicago:20211208T090000
DTSTAMP:20260422T060352
CREATED:20211026T180550Z
LAST-MODIFIED:20211208T040610Z
UID:3396-1638950400-1638954000@myjourneyto.com
SUMMARY:Live Connect: Morning Stillness & Check-in
DESCRIPTION:Join us for a time of stillness\, self-awareness\, and then an optional chance to check-in with one another. Experience a facilitated time of quieting and self reflection\, followed by a chance to connect with others. \nTarget Audience : Anyone looking for a few moments to connect with themselves and others. \nTo register for this event click Get Ticket.
URL:https://myjourneyto.com/workshops/live-connect-morning-stillness-check-in-41/
CATEGORIES:Gold & Silver Members Only
END:VEVENT
BEGIN:VEVENT
DTSTART;TZID=America/Chicago:20211202T120000
DTEND;TZID=America/Chicago:20211202T130000
DTSTAMP:20260422T060352
CREATED:20211026T181727Z
LAST-MODIFIED:20211202T153304Z
UID:3408-1638446400-1638450000@myjourneyto.com
SUMMARY:Live Connect: Lunchtime Discussion – Connecting to Those I Disagree With
DESCRIPTION:Join us for a BYOL open discussion on the topic: Connecting to Those I Disagree With?   We’ll begin with a brief centering and then jump into the discussion. \nTarget Audience : Anyone interested in connecting with others in an open discussion.  Working from home and eating lunch alone?  Join us instead. \nTo register for this event click Get Ticket.
URL:https://myjourneyto.com/workshops/live-connect-lunchtime-discussion-connecting-to-those-i-disagree-with-2/
CATEGORIES:Gold & Silver Members Only
END:VEVENT
BEGIN:VEVENT
DTSTART;TZID=America/Chicago:20211130T080000
DTEND;TZID=America/Chicago:20211130T090000
DTSTAMP:20260422T060352
CREATED:20211012T160647Z
LAST-MODIFIED:20211130T044047Z
UID:3313-1638259200-1638262800@myjourneyto.com
SUMMARY:Live Connect: Morning Stillness & Check-in
DESCRIPTION:Join us for a time of stillness\, self-awareness\, and then an optional chance to check-in with one another. Experience a facilitated time of quieting and self reflection\, followed by a chance to connect with others. \nTarget Audience : Anyone looking for a few moments to connect with themselves and others. \nTo register for this event click Get Ticket.
URL:https://myjourneyto.com/workshops/live-connect-morning-stillness-check-in-40/
CATEGORIES:Gold & Silver Members Only
END:VEVENT
BEGIN:VEVENT
DTSTART;TZID=America/Chicago:20211127T090000
DTEND;TZID=America/Chicago:20211127T110000
DTSTAMP:20260422T060352
CREATED:20211012T162918Z
LAST-MODIFIED:20211012T162918Z
UID:3333-1638003600-1638010800@myjourneyto.com
SUMMARY:FREE Workshop: Releasing Shame
DESCRIPTION:An opportunity to learn how and why we hold onto our shame; and to explore some processes to release our shame. \nTarget Audience : Anyone aware of carrying shame and desiring to begin releasing it. \nNo Cost!  To register for this event click Get Tickets.
URL:https://myjourneyto.com/workshops/free-workshop-releasing-shame/
END:VEVENT
BEGIN:VEVENT
DTSTART;TZID=America/Chicago:20211126T120000
DTEND;TZID=America/Chicago:20211126T130000
DTSTAMP:20260422T060352
CREATED:20211012T161809Z
LAST-MODIFIED:20211012T161809Z
UID:3327-1637928000-1637931600@myjourneyto.com
SUMMARY:Live Connect: Lunchtime Discussion – Motivation Without Shaming
DESCRIPTION:Join us for a BYOL open discussion on the topic: Motivation Without Shaming.   We’ll begin with a brief centering and then jump into the discussion. \nTarget Audience : Anyone interested in connecting with others in an open discussion. Working from home and eating lunch alone? Join us instead. \nTo register for this event click Get Ticket.
URL:https://myjourneyto.com/workshops/live-connect-lunchtime-discussion-motivation-without-shaming-8/
CATEGORIES:Gold & Silver Members Only
END:VEVENT
BEGIN:VEVENT
DTSTART;TZID=America/Chicago:20211124T080000
DTEND;TZID=America/Chicago:20211124T090000
DTSTAMP:20260422T060352
CREATED:20211012T160341Z
LAST-MODIFIED:20211123T225621Z
UID:3310-1637740800-1637744400@myjourneyto.com
SUMMARY:Live Connect: Morning Stillness & Check-in
DESCRIPTION:Join us for a time of stillness\, self-awareness\, and then an optional chance to check-in with one another. Experience a facilitated time of quieting and self reflection\, followed by a chance to connect with others. \nTarget Audience : Anyone looking for a few moments to connect with themselves and others. \nTo register for this event click Get Ticket.
URL:https://myjourneyto.com/workshops/live-connect-morning-stillness-check-in-39/
CATEGORIES:Gold & Silver Members Only
END:VEVENT
BEGIN:VEVENT
DTSTART;TZID=America/Chicago:20211118T120000
DTEND;TZID=America/Chicago:20211118T130000
DTSTAMP:20260422T060352
CREATED:20211012T161519Z
LAST-MODIFIED:20211118T170731Z
UID:3324-1637236800-1637240400@myjourneyto.com
SUMMARY:Live Connect: Lunchtime Discussion – Caring For Your Inner Child
DESCRIPTION:Join us for a BYOL open discussion on the topic: Caring For Your Inner Child.   We’ll begin with a brief centering and then jump into the discussion. \nTarget Audience : Anyone interested in connecting with others in an open discussion. Working from home and eating lunch alone? Join us instead. \nTo register for this event click Get Ticket.
URL:https://myjourneyto.com/workshops/live-connect-lunchtime-discussion-caring-for-your-inner-child-7/
CATEGORIES:Gold & Silver Members Only
END:VEVENT
BEGIN:VEVENT
DTSTART;TZID=America/Chicago:20211116T080000
DTEND;TZID=America/Chicago:20211116T090000
DTSTAMP:20260422T060352
CREATED:20211012T160145Z
LAST-MODIFIED:20211116T030643Z
UID:3307-1637049600-1637053200@myjourneyto.com
SUMMARY:Live Connect: Morning Stillness & Check-in
DESCRIPTION:Join us for a time of stillness\, self-awareness\, and then an optional chance to check-in with one another. Experience a facilitated time of quieting and self reflection\, followed by a chance to connect with others. \nTarget Audience : Anyone looking for a few moments to connect with themselves and others. \nTo register for this event click Get Ticket.
URL:https://myjourneyto.com/workshops/live-connect-morning-stillness-check-in-38/
CATEGORIES:Gold & Silver Members Only
END:VEVENT
END:VCALENDAR