BEGIN:VCALENDAR
VERSION:2.0
PRODID:-//My Journey To - ECPv6.15.17//NONSGML v1.0//EN
CALSCALE:GREGORIAN
METHOD:PUBLISH
X-WR-CALNAME:My Journey To
X-ORIGINAL-URL:https://myjourneyto.com
X-WR-CALDESC:Events for My Journey To
REFRESH-INTERVAL;VALUE=DURATION:PT1H
X-Robots-Tag:noindex
X-PUBLISHED-TTL:PT1H
BEGIN:VTIMEZONE
TZID:America/Chicago
BEGIN:DAYLIGHT
TZOFFSETFROM:-0600
TZOFFSETTO:-0500
TZNAME:CDT
DTSTART:20200308T080000
END:DAYLIGHT
BEGIN:STANDARD
TZOFFSETFROM:-0500
TZOFFSETTO:-0600
TZNAME:CST
DTSTART:20201101T070000
END:STANDARD
BEGIN:DAYLIGHT
TZOFFSETFROM:-0600
TZOFFSETTO:-0500
TZNAME:CDT
DTSTART:20210314T080000
END:DAYLIGHT
BEGIN:STANDARD
TZOFFSETFROM:-0500
TZOFFSETTO:-0600
TZNAME:CST
DTSTART:20211107T070000
END:STANDARD
BEGIN:DAYLIGHT
TZOFFSETFROM:-0600
TZOFFSETTO:-0500
TZNAME:CDT
DTSTART:20220313T080000
END:DAYLIGHT
BEGIN:STANDARD
TZOFFSETFROM:-0500
TZOFFSETTO:-0600
TZNAME:CST
DTSTART:20221106T070000
END:STANDARD
END:VTIMEZONE
BEGIN:VEVENT
DTSTART;TZID=America/Chicago:20210923T120000
DTEND;TZID=America/Chicago:20210923T130000
DTSTAMP:20260422T113740
CREATED:20210820T174548Z
LAST-MODIFIED:20210923T145952Z
UID:2973-1632398400-1632402000@myjourneyto.com
SUMMARY:Live Connect: Lunchtime Discussion – Motivation Without Shaming
DESCRIPTION:Join us for a BYOL open discussion on the topic: Motivation Without Shaming.   We’ll begin with a brief centering and then jump into the discussion. \nTarget Audience : Anyone interested in connecting with others in an open discussion.  Working from home and eating lunch alone?  Join us instead. \nTo register for this event click Get Ticket.
URL:https://myjourneyto.com/workshops/live-connect-lunchtime-discussion-motivation-without-shaming-7/
CATEGORIES:Gold & Silver Members Only
END:VEVENT
BEGIN:VEVENT
DTSTART;TZID=America/Chicago:20210921T080000
DTEND;TZID=America/Chicago:20210921T090000
DTSTAMP:20260422T113740
CREATED:20210820T171438Z
LAST-MODIFIED:20210921T021939Z
UID:2936-1632211200-1632214800@myjourneyto.com
SUMMARY:Live Connect: Morning Stillness & Check-in
DESCRIPTION:Join us for a time of stillness\, self-awareness\, and then an optional chance to check-in with one another.  Experience a facilitated time of quieting and self reflection\, followed by a chance to connect with others. \nTarget Audience :  Anyone looking for a few moments to connect with themselves and others. \nTo register for this event click Get Ticket.
URL:https://myjourneyto.com/workshops/live-connect-morning-stillness-check-in-30/
CATEGORIES:Gold & Silver Members Only
END:VEVENT
BEGIN:VEVENT
DTSTART;TZID=America/Chicago:20210918T090000
DTEND;TZID=America/Chicago:20210918T110000
DTSTAMP:20260422T113740
CREATED:20210820T161344Z
LAST-MODIFIED:20210918T021159Z
UID:2915-1631955600-1631962800@myjourneyto.com
SUMMARY:Workshop: Emotional Self-Care
DESCRIPTION:Join us as we explore emotional self-care.  Learn it’s importance\, and how Jesus modeled it.  You’ll learn & experience several self-care tools you can incorporate into your life. \nTarget Audience : Anyone wanting to enhance their emotional wellness. \nTo register for this event click Get Ticket.
URL:https://myjourneyto.com/workshops/workshop-emotional-self-care/
END:VEVENT
BEGIN:VEVENT
DTSTART;TZID=America/Chicago:20210917T120000
DTEND;TZID=America/Chicago:20210917T130000
DTSTAMP:20260422T113740
CREATED:20210820T173607Z
LAST-MODIFIED:20210917T162437Z
UID:2961-1631880000-1631883600@myjourneyto.com
SUMMARY:Live Connect: Lunchtime Discussion – Caring For Your Inner Child
DESCRIPTION:Join us for a BYOL open discussion on the topic: Caring For Your Inner Child.   We’ll begin with a brief centering and then jump into the discussion. \nTarget Audience : Anyone interested in connecting with others in an open discussion.  Working from home and eating lunch alone?  Join us instead. \nTo register for this event click Get Ticket.
URL:https://myjourneyto.com/workshops/live-connect-lunchtime-discussion-caring-for-your-inner-child-6/
CATEGORIES:Gold & Silver Members Only
END:VEVENT
BEGIN:VEVENT
DTSTART;TZID=America/Chicago:20210915T080000
DTEND;TZID=America/Chicago:20210915T090000
DTSTAMP:20260422T113740
CREATED:20210820T171251Z
LAST-MODIFIED:20210915T124906Z
UID:2933-1631692800-1631696400@myjourneyto.com
SUMMARY:Live Connect: Morning Stillness & Check-in
DESCRIPTION:Join us for a time of stillness\, self-awareness\, and then an optional chance to check-in with one another.  Experience a facilitated time of quieting and self reflection\, followed by a chance to connect with others. \nTarget Audience :  Anyone looking for a few moments to connect with themselves and others. \nTo register for this event click Get Ticket.
URL:https://myjourneyto.com/workshops/live-connect-morning-stillness-check-in-29/
CATEGORIES:Gold & Silver Members Only
END:VEVENT
BEGIN:VEVENT
DTSTART;TZID=America/Chicago:20210909T120000
DTEND;TZID=America/Chicago:20210909T130000
DTSTAMP:20260422T113740
CREATED:20210820T173255Z
LAST-MODIFIED:20210909T165043Z
UID:2957-1631188800-1631192400@myjourneyto.com
SUMMARY:Live Connect: Lunchtime Discussion – Waiting For a Hero
DESCRIPTION:Join us for a BYOL open discussion on the topic: Waiting For A Hero.   We’ll begin with a brief centering and then jump into the discussion. \nTarget Audience : Anyone interested in connecting with others in an open discussion.  Working from home and eating lunch alone?  Join us instead. \nTo register for this event click Get Ticket.
URL:https://myjourneyto.com/workshops/live-connect-lunchtime-discussion-waiting-for-a-hero-5/
CATEGORIES:Gold & Silver Members Only
END:VEVENT
BEGIN:VEVENT
DTSTART;TZID=America/Chicago:20210907T080000
DTEND;TZID=America/Chicago:20210907T090000
DTSTAMP:20260422T113740
CREATED:20210820T170937Z
LAST-MODIFIED:20210820T170937Z
UID:2930-1631001600-1631005200@myjourneyto.com
SUMMARY:Live Connect: Morning Stillness & Check-in
DESCRIPTION:Join us for a time of stillness\, self-awareness\, and then an optional chance to check-in with one another.  Experience a facilitated time of quieting and self reflection\, followed by a chance to connect with others. \nTarget Audience :  Anyone looking for a few moments to connect with themselves and others. \nTo register for this event click Get Ticket.
URL:https://myjourneyto.com/workshops/live-connect-morning-stillness-check-in-28/
CATEGORIES:Gold & Silver Members Only
END:VEVENT
BEGIN:VEVENT
DTSTART;TZID=America/Chicago:20210903T120000
DTEND;TZID=America/Chicago:20210903T130000
DTSTAMP:20260422T113740
CREATED:20210726T184323Z
LAST-MODIFIED:20210903T160450Z
UID:2822-1630670400-1630674000@myjourneyto.com
SUMMARY:Live Connect: Lunchtime Discussion – Self-care or Selfish
DESCRIPTION:Join us for a BYOL open discussion on the topic: Self-care or Selfish.   We’ll begin with a brief centering and then jump into the discussion. \nTarget Audience : Anyone interested in connecting with others in an open discussion.  Working from home and eating lunch alone?  Join us instead. \nTo register for this event click Get Ticket.
URL:https://myjourneyto.com/workshops/live-connect-lunchtime-discussion-self-care-or-selfish-6/
CATEGORIES:Gold & Silver Members Only
END:VEVENT
BEGIN:VEVENT
DTSTART;TZID=America/Chicago:20210901T080000
DTEND;TZID=America/Chicago:20210901T090000
DTSTAMP:20260422T113740
CREATED:20210726T182948Z
LAST-MODIFIED:20210901T031433Z
UID:2807-1630483200-1630486800@myjourneyto.com
SUMMARY:Live Connect: Morning Stillness & Check-in
DESCRIPTION:Join us for a time of stillness\, self-awareness\, and then an optional chance to check-in with one another.  Experience a facilitated time of quieting and self reflection\, followed by a chance to connect with others. \nTarget Audience :  Anyone looking for a few moments to connect with themselves and others. \nTo register for this event click Get Ticket.
URL:https://myjourneyto.com/workshops/live-connect-morning-stillness-check-in-27/
CATEGORIES:Gold & Silver Members Only
END:VEVENT
BEGIN:VEVENT
DTSTART;TZID=America/Chicago:20210828T090000
DTEND;TZID=America/Chicago:20210828T110000
DTSTAMP:20260422T113740
CREATED:20210726T184954Z
LAST-MODIFIED:20210729T182731Z
UID:2825-1630141200-1630148400@myjourneyto.com
SUMMARY:Workshop: Authentic Relationships - The Drama Triangle
DESCRIPTION:Join us as we explore the relational model\, The Drama Triangle\, which illustrates the personas we adopt and drama we create\, rather than take healthy 100% responsibility in our lives.  Understanding this dynamic can revolutionize your marriage\, friendships\, all your relationships. \nTarget Audience : Anyone wanting to increase the health and authenticity of their relationships. \nTo register for this event click Get Tickets.
URL:https://myjourneyto.com/workshops/workshop-authentic-relationships-tha-drama-triangle-2/
END:VEVENT
BEGIN:VEVENT
DTSTART;TZID=America/Chicago:20210826T120000
DTEND;TZID=America/Chicago:20210826T130000
DTSTAMP:20260422T113740
CREATED:20210726T184106Z
LAST-MODIFIED:20210826T160011Z
UID:2819-1629979200-1629982800@myjourneyto.com
SUMMARY:Live Connect: Lunchtime Discussion – Why Am I Stuck?
DESCRIPTION:Join us for a BYOL open discussion on the topic: Why Am I Stuck?.   We’ll begin with a brief centering and then jump into the discussion. \nTarget Audience : Anyone interested in connecting with others in an open discussion.  Working from home and eating lunch alone?  Join us instead. \nTo register for this event click Get Ticket.
URL:https://myjourneyto.com/workshops/live-connect-lunchtime-discussion-why-am-i-stuck-6/
CATEGORIES:Gold & Silver Members Only
END:VEVENT
BEGIN:VEVENT
DTSTART;TZID=America/Chicago:20210824T080000
DTEND;TZID=America/Chicago:20210824T090000
DTSTAMP:20260422T113740
CREATED:20210726T182809Z
LAST-MODIFIED:20210726T183412Z
UID:2804-1629792000-1629795600@myjourneyto.com
SUMMARY:Live Connect: Morning Stillness & Check-in
DESCRIPTION:Join us for a time of stillness\, self-awareness\, and then an optional chance to check-in with one another.  Experience a facilitated time of quieting and self reflection\, followed by a chance to connect with others. \nTarget Audience :  Anyone looking for a few moments to connect with themselves and others. \nTo register for this event click Get Ticket.
URL:https://myjourneyto.com/workshops/live-connect-morning-stillness-check-in-26/
CATEGORIES:Gold & Silver Members Only
END:VEVENT
BEGIN:VEVENT
DTSTART;TZID=America/Chicago:20210820T120000
DTEND;TZID=America/Chicago:20210820T130000
DTSTAMP:20260422T113740
CREATED:20210726T183903Z
LAST-MODIFIED:20210820T170450Z
UID:2816-1629460800-1629464400@myjourneyto.com
SUMMARY:Live Connect: Lunchtime Discussion – Motivation Without Shaming
DESCRIPTION:Join us for a BYOL open discussion on the topic: Motivation Without Shaming.   We’ll begin with a brief centering and then jump into the discussion. \nTarget Audience : Anyone interested in connecting with others in an open discussion.  Working from home and eating lunch alone?  Join us instead. \nTo register for this event click Get Ticket.
URL:https://myjourneyto.com/workshops/live-connect-lunchtime-discussion-motivation-without-shaming-6/
CATEGORIES:Gold & Silver Members Only
END:VEVENT
BEGIN:VEVENT
DTSTART;TZID=America/Chicago:20210818T080000
DTEND;TZID=America/Chicago:20210818T090000
DTSTAMP:20260422T113740
CREATED:20210726T182535Z
LAST-MODIFIED:20210818T020629Z
UID:2801-1629273600-1629277200@myjourneyto.com
SUMMARY:Live Connect: Morning Stillness & Check-in
DESCRIPTION:Join us for a time of stillness\, self-awareness\, and then an optional chance to check-in with one another.  Experience a facilitated time of quieting and self reflection\, followed by a chance to connect with others. \nTarget Audience :  Anyone looking for a few moments to connect with themselves and others. \nTo register for this event click Get Ticket.
URL:https://myjourneyto.com/workshops/live-connect-morning-stillness-check-in-25/
CATEGORIES:Gold & Silver Members Only
END:VEVENT
BEGIN:VEVENT
DTSTART;TZID=America/Chicago:20210814T090000
DTEND;TZID=America/Chicago:20210814T110000
DTSTAMP:20260422T113740
CREATED:20210719T165526Z
LAST-MODIFIED:20210719T165632Z
UID:2781-1628931600-1628938800@myjourneyto.com
SUMMARY:FREE Workshop: Letting Go Of Shame
DESCRIPTION:An opportunity to learn how and why we hold onto our shame; and to explore some processes to let go of and reframe our shame. \nTarget Audience : Anyone aware of carrying shame and desiring to begin releasing it. \nTo register for this event click Get Ticket.
URL:https://myjourneyto.com/workshops/workshop-letting-go-of-shame/
END:VEVENT
BEGIN:VEVENT
DTSTART;TZID=America/Chicago:20210812T120000
DTEND;TZID=America/Chicago:20210812T130000
DTSTAMP:20260422T113740
CREATED:20210726T183637Z
LAST-MODIFIED:20210812T165154Z
UID:2813-1628769600-1628773200@myjourneyto.com
SUMMARY:Live Connect: Lunchtime Discussion – Caring For Your Inner Child
DESCRIPTION:Join us for a BYOL open discussion on the topic: Caring For Your Inner Child.   We’ll begin with a brief centering and then jump into the discussion. \nTarget Audience : Anyone interested in connecting with others in an open discussion.  Working from home and eating lunch alone?  Join us instead. \nTo register for this event click Get Ticket.
URL:https://myjourneyto.com/workshops/live-connect-lunchtime-discussion-caring-for-your-inner-child-5/
CATEGORIES:Gold & Silver Members Only
END:VEVENT
BEGIN:VEVENT
DTSTART;TZID=America/Chicago:20210810T080000
DTEND;TZID=America/Chicago:20210810T090000
DTSTAMP:20260422T113740
CREATED:20210726T182346Z
LAST-MODIFIED:20210728T184245Z
UID:2798-1628582400-1628586000@myjourneyto.com
SUMMARY:Live Connect: Morning Stillness & Check-in
DESCRIPTION:Join us for a time of stillness\, self-awareness\, and then an optional chance to check-in with one another.  Experience a facilitated time of quieting and self reflection\, followed by a chance to connect with others. \nTarget Audience :  Anyone looking for a few moments to connect with themselves and others. \nTo register for this event click Get Ticket.
URL:https://myjourneyto.com/workshops/live-connect-morning-stillness-check-in-24/
CATEGORIES:Gold & Silver Members Only
END:VEVENT
BEGIN:VEVENT
DTSTART;TZID=America/Chicago:20210806T120000
DTEND;TZID=America/Chicago:20210806T130000
DTSTAMP:20260422T113740
CREATED:20210726T183314Z
LAST-MODIFIED:20210728T184157Z
UID:2810-1628251200-1628254800@myjourneyto.com
SUMMARY:Live Connect: Lunchtime Discussion – Waiting For a Hero
DESCRIPTION:Join us for a BYOL open discussion on the topic: Waiting For A Hero.   We’ll begin with a brief centering and then jump into the discussion. \nTarget Audience : Anyone interested in connecting with others in an open discussion.  Working from home and eating lunch alone?  Join us instead. \nTo register for this event click Get Ticket.
URL:https://myjourneyto.com/workshops/live-connect-lunchtime-discussion-waiting-for-a-hero-4/
CATEGORIES:Gold & Silver Members Only
END:VEVENT
BEGIN:VEVENT
DTSTART;TZID=America/Chicago:20210804T080000
DTEND;TZID=America/Chicago:20210804T090000
DTSTAMP:20260422T113740
CREATED:20210726T182101Z
LAST-MODIFIED:20210728T184107Z
UID:2795-1628064000-1628067600@myjourneyto.com
SUMMARY:Live Connect: Morning Stillness & Check-in
DESCRIPTION:Join us for a time of stillness\, self-awareness\, and then an optional chance to check-in with one another.  Experience a facilitated time of quieting and self reflection\, followed by a chance to connect with others. \nTarget Audience :  Anyone looking for a few moments to connect with themselves and others. \nTo register for this event click Get Ticket.
URL:https://myjourneyto.com/workshops/live-connect-morning-stillness-check-in-23/
CATEGORIES:Gold & Silver Members Only
END:VEVENT
BEGIN:VEVENT
DTSTART;TZID=America/Chicago:20210729T120000
DTEND;TZID=America/Chicago:20210729T130000
DTSTAMP:20260422T113740
CREATED:20210628T152337Z
LAST-MODIFIED:20210729T163052Z
UID:2632-1627560000-1627563600@myjourneyto.com
SUMMARY:Live Connect: Lunchtime Discussion – Self-care or Selfish
DESCRIPTION:Join us for a BYOL open discussion on the topic: Self-care or Selfish.   We’ll begin with a brief centering and then jump into the discussion. \nTarget Audience : Anyone interested in connecting with others in an open discussion.  Working from home and eating lunch alone?  Join us instead. \nTo register for this event click Get Ticket.
URL:https://myjourneyto.com/workshops/live-connect-lunchtime-discussion-self-care-or-selfish-5/
CATEGORIES:Gold & Silver Members Only
END:VEVENT
BEGIN:VEVENT
DTSTART;TZID=America/Chicago:20210727T080000
DTEND;TZID=America/Chicago:20210727T090000
DTSTAMP:20260422T113740
CREATED:20210628T153138Z
LAST-MODIFIED:20210727T032754Z
UID:2645-1627372800-1627376400@myjourneyto.com
SUMMARY:Live Connect: Morning Stillness & Check-in
DESCRIPTION:Join us for a time of stillness\, self-awareness\, and then an optional chance to check-in with one another.  Experience a facilitated time of quieting and self reflection\, followed by a chance to connect with others. \nTarget Audience :  Anyone looking for a few moments to connect with themselves and others. \nTo register for this event click Get Ticket.
URL:https://myjourneyto.com/workshops/live-connect-morning-stillness-check-in-22/
CATEGORIES:Gold & Silver Members Only
END:VEVENT
BEGIN:VEVENT
DTSTART;TZID=America/Chicago:20210724T090000
DTEND;TZID=America/Chicago:20210724T110000
DTSTAMP:20260422T113740
CREATED:20210628T154026Z
LAST-MODIFIED:20210724T032152Z
UID:2649-1627117200-1627124400@myjourneyto.com
SUMMARY:Workshop: Developing Personal Integrity
DESCRIPTION:An opportunity explore various facets of personal integrity and learn practices for incorporating it into your life.  \nTarget Audience : Anyone wanting to live with greater personal integrity. \nTo register for this event click Get Ticket.
URL:https://myjourneyto.com/workshops/workshop-developing-personal-integrity/
END:VEVENT
BEGIN:VEVENT
DTSTART;TZID=America/Chicago:20210723T120000
DTEND;TZID=America/Chicago:20210723T130000
DTSTAMP:20260422T113740
CREATED:20210628T152018Z
LAST-MODIFIED:20210723T161632Z
UID:2629-1627041600-1627045200@myjourneyto.com
SUMMARY:Live Connect: Lunchtime Discussion – Why Am I Stuck?
DESCRIPTION:Join us for a BYOL open discussion on the topic: Why Am I Stuck?.   We’ll begin with a brief centering and then jump into the discussion. \nTarget Audience : Anyone interested in connecting with others in an open discussion.  Working from home and eating lunch alone?  Join us instead. \nTo register for this event click Get Ticket.
URL:https://myjourneyto.com/workshops/live-connect-lunchtime-discussion-why-am-i-stuck-5/
CATEGORIES:Gold & Silver Members Only
END:VEVENT
BEGIN:VEVENT
DTSTART;TZID=America/Chicago:20210721T080000
DTEND;TZID=America/Chicago:20210721T090000
DTSTAMP:20260422T113740
CREATED:20210628T152933Z
LAST-MODIFIED:20210721T032422Z
UID:2641-1626854400-1626858000@myjourneyto.com
SUMMARY:Live Connect: Morning Stillness & Check-in
DESCRIPTION:Join us for a time of stillness\, self-awareness\, and then an optional chance to check-in with one another.  Experience a facilitated time of quieting and self reflection\, followed by a chance to connect with others. \nTarget Audience :  Anyone looking for a few moments to connect with themselves and others. \nTo register for this event click Get Ticket.
URL:https://myjourneyto.com/workshops/live-connect-morning-stillness-check-in-21/
CATEGORIES:Gold & Silver Members Only
END:VEVENT
BEGIN:VEVENT
DTSTART;TZID=America/Chicago:20210715T120000
DTEND;TZID=America/Chicago:20210715T130000
DTSTAMP:20260422T113740
CREATED:20210628T151730Z
LAST-MODIFIED:20210715T161239Z
UID:2626-1626350400-1626354000@myjourneyto.com
SUMMARY:Live Connect: Lunchtime Discussion – Motivation Without Shaming
DESCRIPTION:Join us for a BYOL open discussion on the topic: Motivation Without Shaming.   We’ll begin with a brief centering and then jump into the discussion. \nTarget Audience : Anyone interested in connecting with others in an open discussion.  Working from home and eating lunch alone?  Join us instead. \nTo register for this event click Get Ticket.
URL:https://myjourneyto.com/workshops/live-connect-lunchtime-discussion-motivation-without-shaming-5/
CATEGORIES:Gold & Silver Members Only
END:VEVENT
BEGIN:VEVENT
DTSTART;TZID=America/Chicago:20210713T080000
DTEND;TZID=America/Chicago:20210713T090000
DTSTAMP:20260422T113740
CREATED:20210628T152745Z
LAST-MODIFIED:20210713T032013Z
UID:2638-1626163200-1626166800@myjourneyto.com
SUMMARY:Live Connect: Morning Stillness & Check-in
DESCRIPTION:Join us for a time of stillness\, self-awareness\, and then an optional chance to check-in with one another.  Experience a facilitated time of quieting and self reflection\, followed by a chance to connect with others. \nTarget Audience :  Anyone looking for a few moments to connect with themselves and others. \nTo register for this event click Get Ticket.
URL:https://myjourneyto.com/workshops/live-connect-morning-stillness-check-in-20/
CATEGORIES:Gold & Silver Members Only
END:VEVENT
BEGIN:VEVENT
DTSTART;TZID=America/Chicago:20210710T090000
DTEND;TZID=America/Chicago:20210710T110000
DTSTAMP:20260422T113740
CREATED:20210609T152109Z
LAST-MODIFIED:20210702T212600Z
UID:2594-1625907600-1625914800@myjourneyto.com
SUMMARY:Free Workshop: Declaring Your Personal Independence
DESCRIPTION:Taking Charge of Creating The Life You Want \nTired of waiting around for others or the world to be different\, so you can have the life you want?  Learn the keys to letting go of dependence on others and taking charge of your life . \nTarget Audience : Anyone ready to lead themselves and wanting to learn how. \nTo register for this event click Get Ticket.
URL:https://myjourneyto.com/workshops/free-workshop-declaring-your-personal-independence/
END:VEVENT
BEGIN:VEVENT
DTSTART;TZID=America/Chicago:20210709T120000
DTEND;TZID=America/Chicago:20210709T130000
DTSTAMP:20260422T113740
CREATED:20210628T151349Z
LAST-MODIFIED:20210709T164751Z
UID:2623-1625832000-1625835600@myjourneyto.com
SUMMARY:Live Connect: Lunchtime Discussion – Caring For Your Inner Child
DESCRIPTION:Join us for a BYOL open discussion on the topic: Caring For Your Inner Child.   We’ll begin with a brief centering and then jump into the discussion. \nTarget Audience : Anyone interested in connecting with others in an open discussion.  Working from home and eating lunch alone?  Join us instead. \nTo register for this event click Get Ticket.
URL:https://myjourneyto.com/workshops/live-connect-lunchtime-discussion-caring-for-your-inner-child-4/
CATEGORIES:Gold & Silver Members Only
END:VEVENT
BEGIN:VEVENT
DTSTART;TZID=America/Chicago:20210707T080000
DTEND;TZID=America/Chicago:20210707T090000
DTSTAMP:20260422T113740
CREATED:20210628T152601Z
LAST-MODIFIED:20210707T032551Z
UID:2635-1625644800-1625648400@myjourneyto.com
SUMMARY:Live Connect: Morning Stillness & Check-in
DESCRIPTION:Join us for a time of stillness\, self-awareness\, and then an optional chance to check-in with one another.  Experience a facilitated time of quieting and self reflection\, followed by a chance to connect with others. \nTarget Audience :  Anyone looking for a few moments to connect with themselves and others. \nTo register for this event click Get Ticket.
URL:https://myjourneyto.com/workshops/live-connect-morning-stillness-check-in-19/
CATEGORIES:Gold & Silver Members Only
END:VEVENT
BEGIN:VEVENT
DTSTART;TZID=America/Chicago:20210701T120000
DTEND;TZID=America/Chicago:20210701T130000
DTSTAMP:20260422T113740
CREATED:20210628T150958Z
LAST-MODIFIED:20210702T212650Z
UID:2620-1625140800-1625144400@myjourneyto.com
SUMMARY:Live Connect: Lunchtime Discussion – Waiting For a Hero
DESCRIPTION:Join us for a BYOL open discussion on the topic: Waiting For A Hero.   We’ll begin with a brief centering and then jump into the discussion. \nTarget Audience : Anyone interested in connecting with others in an open discussion.  Working from home and eating lunch alone?  Join us instead. \nTo register for this event click Get Ticket.
URL:https://myjourneyto.com/workshops/live-connect-lunchtime-discussion-waiting-for-a-hero-3/
CATEGORIES:Gold & Silver Members Only
END:VEVENT
END:VCALENDAR