BEGIN:VCALENDAR
VERSION:2.0
PRODID:-//My Journey To - ECPv6.15.17//NONSGML v1.0//EN
CALSCALE:GREGORIAN
METHOD:PUBLISH
X-WR-CALNAME:My Journey To
X-ORIGINAL-URL:https://myjourneyto.com
X-WR-CALDESC:Events for My Journey To
REFRESH-INTERVAL;VALUE=DURATION:PT1H
X-Robots-Tag:noindex
X-PUBLISHED-TTL:PT1H
BEGIN:VTIMEZONE
TZID:America/Chicago
BEGIN:DAYLIGHT
TZOFFSETFROM:-0600
TZOFFSETTO:-0500
TZNAME:CDT
DTSTART:20200308T080000
END:DAYLIGHT
BEGIN:STANDARD
TZOFFSETFROM:-0500
TZOFFSETTO:-0600
TZNAME:CST
DTSTART:20201101T070000
END:STANDARD
BEGIN:DAYLIGHT
TZOFFSETFROM:-0600
TZOFFSETTO:-0500
TZNAME:CDT
DTSTART:20210314T080000
END:DAYLIGHT
BEGIN:STANDARD
TZOFFSETFROM:-0500
TZOFFSETTO:-0600
TZNAME:CST
DTSTART:20211107T070000
END:STANDARD
BEGIN:DAYLIGHT
TZOFFSETFROM:-0600
TZOFFSETTO:-0500
TZNAME:CDT
DTSTART:20220313T080000
END:DAYLIGHT
BEGIN:STANDARD
TZOFFSETFROM:-0500
TZOFFSETTO:-0600
TZNAME:CST
DTSTART:20221106T070000
END:STANDARD
END:VTIMEZONE
BEGIN:VEVENT
DTSTART;TZID=America/Chicago:20210715T120000
DTEND;TZID=America/Chicago:20210715T130000
DTSTAMP:20260422T140157
CREATED:20210628T151730Z
LAST-MODIFIED:20210715T161239Z
UID:2626-1626350400-1626354000@myjourneyto.com
SUMMARY:Live Connect: Lunchtime Discussion – Motivation Without Shaming
DESCRIPTION:Join us for a BYOL open discussion on the topic: Motivation Without Shaming.   We’ll begin with a brief centering and then jump into the discussion. \nTarget Audience : Anyone interested in connecting with others in an open discussion.  Working from home and eating lunch alone?  Join us instead. \nTo register for this event click Get Ticket.
URL:https://myjourneyto.com/workshops/live-connect-lunchtime-discussion-motivation-without-shaming-5/
CATEGORIES:Gold & Silver Members Only
END:VEVENT
BEGIN:VEVENT
DTSTART;TZID=America/Chicago:20210713T080000
DTEND;TZID=America/Chicago:20210713T090000
DTSTAMP:20260422T140157
CREATED:20210628T152745Z
LAST-MODIFIED:20210713T032013Z
UID:2638-1626163200-1626166800@myjourneyto.com
SUMMARY:Live Connect: Morning Stillness & Check-in
DESCRIPTION:Join us for a time of stillness\, self-awareness\, and then an optional chance to check-in with one another.  Experience a facilitated time of quieting and self reflection\, followed by a chance to connect with others. \nTarget Audience :  Anyone looking for a few moments to connect with themselves and others. \nTo register for this event click Get Ticket.
URL:https://myjourneyto.com/workshops/live-connect-morning-stillness-check-in-20/
CATEGORIES:Gold & Silver Members Only
END:VEVENT
BEGIN:VEVENT
DTSTART;TZID=America/Chicago:20210710T090000
DTEND;TZID=America/Chicago:20210710T110000
DTSTAMP:20260422T140157
CREATED:20210609T152109Z
LAST-MODIFIED:20210702T212600Z
UID:2594-1625907600-1625914800@myjourneyto.com
SUMMARY:Free Workshop: Declaring Your Personal Independence
DESCRIPTION:Taking Charge of Creating The Life You Want \nTired of waiting around for others or the world to be different\, so you can have the life you want?  Learn the keys to letting go of dependence on others and taking charge of your life . \nTarget Audience : Anyone ready to lead themselves and wanting to learn how. \nTo register for this event click Get Ticket.
URL:https://myjourneyto.com/workshops/free-workshop-declaring-your-personal-independence/
END:VEVENT
BEGIN:VEVENT
DTSTART;TZID=America/Chicago:20210709T120000
DTEND;TZID=America/Chicago:20210709T130000
DTSTAMP:20260422T140157
CREATED:20210628T151349Z
LAST-MODIFIED:20210709T164751Z
UID:2623-1625832000-1625835600@myjourneyto.com
SUMMARY:Live Connect: Lunchtime Discussion – Caring For Your Inner Child
DESCRIPTION:Join us for a BYOL open discussion on the topic: Caring For Your Inner Child.   We’ll begin with a brief centering and then jump into the discussion. \nTarget Audience : Anyone interested in connecting with others in an open discussion.  Working from home and eating lunch alone?  Join us instead. \nTo register for this event click Get Ticket.
URL:https://myjourneyto.com/workshops/live-connect-lunchtime-discussion-caring-for-your-inner-child-4/
CATEGORIES:Gold & Silver Members Only
END:VEVENT
BEGIN:VEVENT
DTSTART;TZID=America/Chicago:20210707T080000
DTEND;TZID=America/Chicago:20210707T090000
DTSTAMP:20260422T140157
CREATED:20210628T152601Z
LAST-MODIFIED:20210707T032551Z
UID:2635-1625644800-1625648400@myjourneyto.com
SUMMARY:Live Connect: Morning Stillness & Check-in
DESCRIPTION:Join us for a time of stillness\, self-awareness\, and then an optional chance to check-in with one another.  Experience a facilitated time of quieting and self reflection\, followed by a chance to connect with others. \nTarget Audience :  Anyone looking for a few moments to connect with themselves and others. \nTo register for this event click Get Ticket.
URL:https://myjourneyto.com/workshops/live-connect-morning-stillness-check-in-19/
CATEGORIES:Gold & Silver Members Only
END:VEVENT
BEGIN:VEVENT
DTSTART;TZID=America/Chicago:20210701T120000
DTEND;TZID=America/Chicago:20210701T130000
DTSTAMP:20260422T140157
CREATED:20210628T150958Z
LAST-MODIFIED:20210702T212650Z
UID:2620-1625140800-1625144400@myjourneyto.com
SUMMARY:Live Connect: Lunchtime Discussion – Waiting For a Hero
DESCRIPTION:Join us for a BYOL open discussion on the topic: Waiting For A Hero.   We’ll begin with a brief centering and then jump into the discussion. \nTarget Audience : Anyone interested in connecting with others in an open discussion.  Working from home and eating lunch alone?  Join us instead. \nTo register for this event click Get Ticket.
URL:https://myjourneyto.com/workshops/live-connect-lunchtime-discussion-waiting-for-a-hero-3/
CATEGORIES:Gold & Silver Members Only
END:VEVENT
BEGIN:VEVENT
DTSTART;TZID=America/Chicago:20210629T080000
DTEND;TZID=America/Chicago:20210629T090000
DTSTAMP:20260422T140157
CREATED:20210526T145234Z
LAST-MODIFIED:20210629T033030Z
UID:2540-1624953600-1624957200@myjourneyto.com
SUMMARY:Live Connect: Morning Stillness & Check-in
DESCRIPTION:Join us for a time of stillness\, self-awareness\, and then an optional chance to check-in with one another.  Experience a facilitated time of quieting and self reflection\, followed by a chance to connect with others. \nTarget Audience :  Anyone looking for a few moments to connect with themselves and others. \nTo register for this event click Get Tickets.
URL:https://myjourneyto.com/workshops/live-connect-morning-stillness-check-in-18/
CATEGORIES:Gold & Silver Members Only
END:VEVENT
BEGIN:VEVENT
DTSTART;TZID=America/Chicago:20210625T120000
DTEND;TZID=America/Chicago:20210625T130000
DTSTAMP:20260422T140157
CREATED:20210526T150700Z
LAST-MODIFIED:20210526T150700Z
UID:2553-1624622400-1624626000@myjourneyto.com
SUMMARY:Live Connect: Lunchtime Discussion – Self-care or Selfish
DESCRIPTION:Join us for a BYOL open discussion on the topic: Self-care or Selfish.   We’ll begin with a brief centering and then jump into the discussion. \nTarget Audience : Anyone interested in connecting with others in an open discussion.  Working from home and eating lunch alone?  Join us instead. \nTo register for this event click Get Tickets.
URL:https://myjourneyto.com/workshops/live-connect-lunchtime-discussion-self-care-or-selfish-4/
CATEGORIES:Gold & Silver Members Only
END:VEVENT
BEGIN:VEVENT
DTSTART;TZID=America/Chicago:20210623T080000
DTEND;TZID=America/Chicago:20210623T090000
DTSTAMP:20260422T140157
CREATED:20210526T144928Z
LAST-MODIFIED:20210623T020423Z
UID:2537-1624435200-1624438800@myjourneyto.com
SUMMARY:Live Connect: Morning Stillness & Check-in
DESCRIPTION:Join us for a time of stillness\, self-awareness\, and then an optional chance to check-in with one another.  Experience a facilitated time of quieting and self reflection\, followed by a chance to connect with others. \nTarget Audience :  Anyone looking for a few moments to connect with themselves and others. \nTo register for this event click Get Tickets.
URL:https://myjourneyto.com/workshops/live-connect-morning-stillness-check-in-17/
CATEGORIES:Gold & Silver Members Only
END:VEVENT
BEGIN:VEVENT
DTSTART;TZID=America/Chicago:20210619T090000
DTEND;TZID=America/Chicago:20210619T110000
DTSTAMP:20260422T140157
CREATED:20210526T151231Z
LAST-MODIFIED:20210619T150440Z
UID:2560-1624093200-1624100400@myjourneyto.com
SUMMARY:Workshop: Releasing Shame
DESCRIPTION:An opportunity to learn how and why we hold onto our shame; and to explore some processes to release our shame. \nTarget Audience : Anyone aware of carrying shame and desiring to begin releasing it. \nTo register for this event click Get Tickets.
URL:https://myjourneyto.com/workshops/workshop-releasing-shame-2/
END:VEVENT
BEGIN:VEVENT
DTSTART;TZID=America/Chicago:20210617T120000
DTEND;TZID=America/Chicago:20210617T130000
DTSTAMP:20260422T140157
CREATED:20210526T150433Z
LAST-MODIFIED:20210608T151031Z
UID:2549-1623931200-1623934800@myjourneyto.com
SUMMARY:Live Connect: Lunchtime Discussion – Why Am I Stuck?
DESCRIPTION:Join us for a BYOL open discussion on the topic: Why Am I Stuck?.   We’ll begin with a brief centering and then jump into the discussion. \nTarget Audience : Anyone interested in connecting with others in an open discussion.  Working from home and eating lunch alone?  Join us instead. \nTo register for this event click Get Tickets.
URL:https://myjourneyto.com/workshops/live-connect-lunchtime-discussion-why-am-i-stuck-4/
CATEGORIES:Gold & Silver Members Only
END:VEVENT
BEGIN:VEVENT
DTSTART;TZID=America/Chicago:20210615T080000
DTEND;TZID=America/Chicago:20210615T090000
DTSTAMP:20260422T140157
CREATED:20210526T144503Z
LAST-MODIFIED:20210608T150911Z
UID:2533-1623744000-1623747600@myjourneyto.com
SUMMARY:Live Connect: Morning Stillness & Check-in
DESCRIPTION:Join us for a time of stillness\, self-awareness\, and then an optional chance to check-in with one another.  Experience a facilitated time of quieting and self reflection\, followed by a chance to connect with others. \nTarget Audience :  Anyone looking for a few moments to connect with themselves and others. \nTo register for this event click Get Tickets.
URL:https://myjourneyto.com/workshops/live-connect-morning-stillness-check-in-16/
CATEGORIES:Gold & Silver Members Only
END:VEVENT
BEGIN:VEVENT
DTSTART;TZID=America/Chicago:20210611T120000
DTEND;TZID=America/Chicago:20210611T130000
DTSTAMP:20260422T140157
CREATED:20210526T150050Z
LAST-MODIFIED:20210608T150706Z
UID:2546-1623412800-1623416400@myjourneyto.com
SUMMARY:Live Connect: Lunchtime Discussion – Motivation Without Shaming
DESCRIPTION:Join us for a BYOL open discussion on the topic: Motivation Without Shaming.   We’ll begin with a brief centering and then jump into the discussion. \nTarget Audience : Anyone interested in connecting with others in an open discussion.  Working from home and eating lunch alone?  Join us instead. \nTo register for this event click Get Tickets.
URL:https://myjourneyto.com/workshops/live-connect-lunchtime-discussion-motivation-without-shaming-4/
CATEGORIES:Gold & Silver Members Only
END:VEVENT
BEGIN:VEVENT
DTSTART;TZID=America/Chicago:20210609T080000
DTEND;TZID=America/Chicago:20210609T090000
DTSTAMP:20260422T140157
CREATED:20210526T144219Z
LAST-MODIFIED:20210609T031137Z
UID:2530-1623225600-1623229200@myjourneyto.com
SUMMARY:Live Connect: Morning Stillness & Check-in
DESCRIPTION:Join us for a time of stillness\, self-awareness\, and then an optional chance to check-in with one another.  Experience a facilitated time of quieting and self reflection\, followed by a chance to connect with others. \nTarget Audience :  Anyone looking for a few moments to connect with themselves and others. \nTo register for this event click Get Tickets.
URL:https://myjourneyto.com/workshops/live-connect-morning-stillness-check-in-15/
CATEGORIES:Gold & Silver Members Only
END:VEVENT
BEGIN:VEVENT
DTSTART;TZID=America/Chicago:20210605T130000
DTEND;TZID=America/Chicago:20210605T160000
DTSTAMP:20260422T140157
CREATED:20210510T151908Z
LAST-MODIFIED:20210605T035943Z
UID:2453-1622898000-1622908800@myjourneyto.com
SUMMARY:Workshop: Cultivating Joy — For Healthier Relational Connection and Stable Identity
DESCRIPTION:Learn tools for building intentional joy to improve connections with God\, others and yourself.  Develop habits to invite joy into all of life\, especially more difficult seasons.  \nTarget Audience: Anyone looking to strengthen their resilience and relationships through the brain fuel of joy. \nTo register for this event click Get Tickets.
URL:https://myjourneyto.com/workshops/workshop-cultivating-joy-for-healthier-relational-connection-and-stable-identity/
END:VEVENT
BEGIN:VEVENT
DTSTART;TZID=America/Chicago:20210603T120000
DTEND;TZID=America/Chicago:20210603T130000
DTSTAMP:20260422T140157
CREATED:20210526T145734Z
LAST-MODIFIED:20210603T164604Z
UID:2543-1622721600-1622725200@myjourneyto.com
SUMMARY:Live Connect: Lunchtime Discussion – Waiting For a Hero
DESCRIPTION:Join us for a BYOL open discussion on the topic: Waiting For A Hero.   We’ll begin with a brief centering and then jump into the discussion. \nTarget Audience : Anyone interested in connecting with others in an open discussion.  Working from home and eating lunch alone?  Join us instead. \nTo register for this event click Get Tickets.
URL:https://myjourneyto.com/workshops/live-connect-lunchtime-discussion-waiting-for-a-hero-2/
CATEGORIES:Gold & Silver Members Only
END:VEVENT
BEGIN:VEVENT
DTSTART;TZID=America/Chicago:20210601T080000
DTEND;TZID=America/Chicago:20210601T090000
DTSTAMP:20260422T140157
CREATED:20210526T143735Z
LAST-MODIFIED:20210601T023227Z
UID:2527-1622534400-1622538000@myjourneyto.com
SUMMARY:Live Connect: Morning Stillness & Check-in
DESCRIPTION:Join us for a time of stillness\, self-awareness\, and then an optional chance to check-in with one another.  Experience a facilitated time of quieting and self reflection\, followed by a chance to connect with others. \nTarget Audience :  Anyone looking for a few moments to connect with themselves and others. \nTo register for this event click Get Tickets.
URL:https://myjourneyto.com/workshops/live-connect-morning-stillness-check-in-14/
CATEGORIES:Gold & Silver Members Only
END:VEVENT
BEGIN:VEVENT
DTSTART;TZID=America/Chicago:20210528T120000
DTEND;TZID=America/Chicago:20210528T130000
DTSTAMP:20260422T140157
CREATED:20210427T152635Z
LAST-MODIFIED:20210427T152635Z
UID:2367-1622203200-1622206800@myjourneyto.com
SUMMARY:Live Connect: Lunchtime Discussion – Caring For Your Inner Child
DESCRIPTION:Join us for a BYOL open discussion on the topic: Caring For Your Inner Child.   We’ll begin with a brief centering and then jump into the discussion. \nTarget Audience : Anyone interested in connecting with others in an open discussion.  Working from home and eating lunch alone?  Join us instead. \nTo register for this event click Get Tickets.
URL:https://myjourneyto.com/workshops/live-connect-lunchtime-discussion-caring-for-your-inner-child-3/
CATEGORIES:Gold & Silver Members Only
END:VEVENT
BEGIN:VEVENT
DTSTART;TZID=America/Chicago:20210526T080000
DTEND;TZID=America/Chicago:20210526T090000
DTSTAMP:20260422T140157
CREATED:20210427T150434Z
LAST-MODIFIED:20210526T031841Z
UID:2355-1622016000-1622019600@myjourneyto.com
SUMMARY:Live Connect: Morning Stillness & Check-in
DESCRIPTION:Join us for a time of stillness\, self-awareness\, and then an optional chance to check-in with one another.  Experience a facilitated time of quieting and self reflection\, followed by a chance to connect with others. \nTarget Audience :  Anyone looking for a few moments to connect with themselves and others. \nTo register for this event click Get Tickets.
URL:https://myjourneyto.com/workshops/live-connect-morning-stillness-check-in-13/
CATEGORIES:Gold & Silver Members Only
END:VEVENT
BEGIN:VEVENT
DTSTART;TZID=America/Chicago:20210522T090000
DTEND;TZID=America/Chicago:20210522T110000
DTSTAMP:20260422T140157
CREATED:20210427T183727Z
LAST-MODIFIED:20210510T151422Z
UID:2374-1621674000-1621681200@myjourneyto.com
SUMMARY:Workshop: Life Lessons From The Redwoods
DESCRIPTION:An opportunity to learn various life and personal growth lessons from examining the great redwoods. \nTarget Audience : Anyone looking personally to learn and grow. \nTo register for this event click Get Tickets.
URL:https://myjourneyto.com/workshops/workshop-life-lessons-from-the-redwoods/
END:VEVENT
BEGIN:VEVENT
DTSTART;TZID=America/Chicago:20210520T120000
DTEND;TZID=America/Chicago:20210520T130000
DTSTAMP:20260422T140157
CREATED:20210427T152218Z
LAST-MODIFIED:20210520T161149Z
UID:2364-1621512000-1621515600@myjourneyto.com
SUMMARY:Live Connect: Lunchtime Discussion – Self-care or Selfish
DESCRIPTION:Join us for a BYOL open discussion on the topic: Self-care or Selfish.   We’ll begin with a brief centering and then jump into the discussion. \nTarget Audience : Anyone interested in connecting with others in an open discussion.  Working from home and eating lunch alone?  Join us instead. \nTo register for this event click Get Tickets.
URL:https://myjourneyto.com/workshops/live-connect-lunchtime-discussion-self-care-or-selfish-3/
CATEGORIES:Gold & Silver Members Only
END:VEVENT
BEGIN:VEVENT
DTSTART;TZID=America/Chicago:20210518T080000
DTEND;TZID=America/Chicago:20210518T090000
DTSTAMP:20260422T140157
CREATED:20210427T150125Z
LAST-MODIFIED:20210427T150125Z
UID:2352-1621324800-1621328400@myjourneyto.com
SUMMARY:Live Connect: Morning Stillness & Check-in
DESCRIPTION:Join us for a time of stillness\, self-awareness\, and then an optional chance to check-in with one another.  Experience a facilitated time of quieting and self reflection\, followed by a chance to connect with others. \nTarget Audience :  Anyone looking for a few moments to connect with themselves and others. \nTo register for this event click Get Tickets.
URL:https://myjourneyto.com/workshops/live-connect-morning-stillness-check-in-12/
CATEGORIES:Gold & Silver Members Only
END:VEVENT
BEGIN:VEVENT
DTSTART;TZID=America/Chicago:20210514T120000
DTEND;TZID=America/Chicago:20210514T130000
DTSTAMP:20260422T140157
CREATED:20210427T151914Z
LAST-MODIFIED:20210514T164623Z
UID:2361-1620993600-1620997200@myjourneyto.com
SUMMARY:Live Connect: Lunchtime Discussion – Why Am I Stuck?
DESCRIPTION:Join us for a BYOL open discussion on the topic: Why Am I Stuck?.   We’ll begin with a brief centering and then jump into the discussion. \nTarget Audience : Anyone interested in connecting with others in an open discussion.  Working from home and eating lunch alone?  Join us instead. \nTo register for this event click Get Tickets.
URL:https://myjourneyto.com/workshops/live-connect-lunchtime-discussion-why-am-i-stuck-3/
CATEGORIES:Gold & Silver Members Only
END:VEVENT
BEGIN:VEVENT
DTSTART;TZID=America/Chicago:20210512T080000
DTEND;TZID=America/Chicago:20210512T090000
DTSTAMP:20260422T140157
CREATED:20210427T145803Z
LAST-MODIFIED:20210512T020628Z
UID:2349-1620806400-1620810000@myjourneyto.com
SUMMARY:Live Connect: Morning Stillness & Check-in
DESCRIPTION:Join us for a time of stillness\, self-awareness\, and then an optional chance to check-in with one another.  Experience a facilitated time of quieting and self reflection\, followed by a chance to connect with others. \nTarget Audience :  Anyone looking for a few moments to connect with themselves and others. \nTo register for this event click Get Tickets.
URL:https://myjourneyto.com/workshops/live-connect-morning-stillness-check-in-11/
CATEGORIES:Gold & Silver Members Only
END:VEVENT
BEGIN:VEVENT
DTSTART;TZID=America/Chicago:20210508T090000
DTEND;TZID=America/Chicago:20210508T110000
DTSTAMP:20260422T140157
CREATED:20210427T183328Z
LAST-MODIFIED:20210427T183328Z
UID:2370-1620464400-1620471600@myjourneyto.com
SUMMARY:Workshop: Authentic Relationships - Tha Drama Triangle
DESCRIPTION:Join us as we explore the relational model\, The Drama Triangle\, which illustrates the personas we adopt and drama we create\, rather than take healthy 100% responsibility in our lives.  Understanding this dynamic can revolutionize your marriage\, friendships\, all your relationships. \nTarget Audience : Anyone wanting to increase the health and authenticity of their relationships. \nTo register for this event click Get Tickets.
URL:https://myjourneyto.com/workshops/workshop-authentic-relationships-tha-drama-triangle/
END:VEVENT
BEGIN:VEVENT
DTSTART;TZID=America/Chicago:20210506T120000
DTEND;TZID=America/Chicago:20210506T130000
DTSTAMP:20260422T140157
CREATED:20210427T151630Z
LAST-MODIFIED:20210506T161433Z
UID:2358-1620302400-1620306000@myjourneyto.com
SUMMARY:Live Connect: Lunchtime Discussion – Motivation Without Shaming
DESCRIPTION:Join us for a BYOL open discussion on the topic: Motivation Without Shaming.   We’ll begin with a brief centering and then jump into the discussion. \nTarget Audience : Anyone interested in connecting with others in an open discussion.  Working from home and eating lunch alone?  Join us instead. \nTo register for this event click Get Tickets.
URL:https://myjourneyto.com/workshops/live-connect-lunchtime-discussion-motivation-without-shaming-3/
CATEGORIES:Gold & Silver Members Only
END:VEVENT
BEGIN:VEVENT
DTSTART;TZID=America/Chicago:20210504T080000
DTEND;TZID=America/Chicago:20210504T090000
DTSTAMP:20260422T140157
CREATED:20210427T145515Z
LAST-MODIFIED:20210504T030423Z
UID:2346-1620115200-1620118800@myjourneyto.com
SUMMARY:Live Connect: Morning Stillness & Check-in
DESCRIPTION:Join us for a time of stillness\, self-awareness\, and then an optional chance to check-in with one another.  Experience a facilitated time of quieting and self reflection\, followed by a chance to connect with others. \nTarget Audience :  Anyone looking for a few moments to connect with themselves and others. \nTo register for this event click Get Tickets.
URL:https://myjourneyto.com/workshops/live-connect-morning-stillness-check-in-10/
CATEGORIES:Gold & Silver Members Only
END:VEVENT
BEGIN:VEVENT
DTSTART;TZID=America/Chicago:20210429T120000
DTEND;TZID=America/Chicago:20210429T130000
DTSTAMP:20260422T140157
CREATED:20210326T185544Z
LAST-MODIFIED:20210429T160039Z
UID:2223-1619697600-1619701200@myjourneyto.com
SUMMARY:Live Connect: Lunchtime Discussion – Waiting For a Hero
DESCRIPTION:Join us for a BYOL open discussion on the topic: Waiting For A Hero.   We’ll begin with a brief centering and then jump into the discussion. \nTarget Audience : Anyone interested in connecting with others in an open discussion.  Working from home and eating lunch alone?  Join us instead. \nTo register for this event click Get Tickets.
URL:https://myjourneyto.com/workshops/live-connect-lunchtime-discussion-waiting-for-a-hero/
CATEGORIES:Gold & Silver Members Only
END:VEVENT
BEGIN:VEVENT
DTSTART;TZID=America/Chicago:20210426T080000
DTEND;TZID=America/Chicago:20210426T090000
DTSTAMP:20260422T140157
CREATED:20210326T183941Z
LAST-MODIFIED:20210326T183941Z
UID:2207-1619424000-1619427600@myjourneyto.com
SUMMARY:Live Connect: Morning Stillness & Check-in
DESCRIPTION:Join us for a time of stillness\, self-awareness\, and then an optional chance to check-in with one another.  Experience a facilitated time of quieting and self reflection\, followed by a chance to connect with others. \nTarget Audience :  Anyone looking for a few moments to connect with themselves and others. \nTo register for this event click Get Tickets.
URL:https://myjourneyto.com/workshops/live-connect-morning-stillness-check-in-9/
CATEGORIES:Gold & Silver Members Only
END:VEVENT
BEGIN:VEVENT
DTSTART;TZID=America/Chicago:20210424T090000
DTEND;TZID=America/Chicago:20210424T110000
DTSTAMP:20260422T140157
CREATED:20210326T185955Z
LAST-MODIFIED:20210424T034037Z
UID:2226-1619254800-1619262000@myjourneyto.com
SUMMARY:Workshop: Releasing Shame
DESCRIPTION:An opportunity to learn how and why we hold onto our shame; and to explore some processes to release our shame. \nTarget Audience : Anyone aware of carrying shame and desiring to begin releasing it. \nTo register for this event click Get Tickets.
URL:https://myjourneyto.com/workshops/workshop-releasing-shame/
END:VEVENT
END:VCALENDAR